Workbook

Sheet Overview
A1: VERIFIED SARIMA (1,0,1) x (1,0,1,12)
A2: Scientific boundary | B2: Student rows have NO time index; period 12 is not calendar seasonality
A4: Source hash | B4: f05722f57ac86bd75fdd608352f45bbc2408c1b8e8a319ab21ef76288646b4ab
A5: Training records | B5: 584
A6: Holdout records | B6: 65
A7: AIC | B7: 2758.7854
A8: BIC | B8: 2784.8593
A9: MAE | B9: 3.9442587
A10: RMSE | B10: 5.1995909
A11: MAPE percent | B11: 20.896535
A12: Forecast step 65 | B12: 11.567381
A13: Nonzero MAPE denominators | B13: 56
A14: Model | B14: ARIMA(1,0,1), seasonal=(1,0,1,12), trend c
A15: Enforcement | B15: enforce_stationarity=False; enforce_invertibility=False
A16: Provenance | B16: Independent Python statsmodels 0.14.6 fit on training rows 1-584 only

Sheet G3 Source
A1: CSV record | B1: G3 grade | C1: Subset
A2: 1 | B2: 11 | C2: Train
A3: 2 | B3: 11 | C3: Train
A4: 3 | B4: 12 | C4: Train
A5: 4 | B5: 14 | C5: Train
A6: 5 | B6: 13 | C6: Train
A7: 6 | B7: 13 | C7: Train
A8: 7 | B8: 13 | C8: Train
A9: 8 | B9: 13 | C9: Train
A10: 9 | B10: 17 | C10: Train
A11: 10 | B11: 13 | C11: Train
A12: 11 | B12: 14 | C12: Train
A13: 12 | B13: 13 | C13: Train
... A650: 649 | B650: 11 | C650: Holdout

Sheet Model
A1: Parameter | B1: Fitted value | C1: Source
A2: const | B2: 11.784934 | C2: Original 584 record fitting sample
A3: ar.L1 | B3: 0.95799826 | C3: Original 584 record fitting sample
A4: ma.L1 | B4: -0.82498898 | C4: Original 584 record fitting sample
A5: ar.S.L12 | B5: 0.26020849 | C5: Original 584 record fitting sample
A6: ma.S.L12 | B6: -0.25775425 | C6: Original 584 record fitting sample
A7: sigma2 | B7: 7.2246632 | C7: Original 584 record fitting sample

Sheet Holdout
A1: Record | B1: Actual | C1: Forecast | D1: Error | E1: Abs error | F1: Squared error | G1: APE percent
A2: 585 | B2: ='G3 Source'!B586 -> 11 | C2: 8.4059547 | D2: =B2-C2 -> 2.5940453 | E2: =ABS(D2) -> 2.5940453 | F2: =D2^2 -> 6.7290713 | G2: =IF(B2=0,"",100*ABS(D2/B2)) -> 23.58223
A3: 586 | B3: ='G3 Source'!B587 -> 8 | C3: 8.5558472 | D3: =B3-C3 -> -0.55584719 | E3: =ABS(D3) -> 0.55584719 | F3: =D3^2 -> 0.30896609 | G3: =IF(B3=0,"",100*ABS(D3/B3)) -> 6.9480898
A4: 587 | B4: ='G3 Source'!B588 -> 0 | C4: 8.6916679 | D4: =B4-C4 -> -8.6916679 | E4: =ABS(D4) -> 8.6916679 | F4: =D4^2 -> 75.545091 | G4: =IF(B4=0,"",100*ABS(D4/B4))
A5: 588 | B5: ='G3 Source'!B589 -> 8 | C5: 8.8137549 | D5: =B5-C5 -> -0.81375492 | E5: =ABS(D5) -> 0.81375492 | F5: =D5^2 -> 0.66219707 | G5: =IF(B5=0,"",100*ABS(D5/B5)) -> 10.171937
A6: 589 | B6: ='G3 Source'!B590 -> 9 | C6: 8.9463951 | D6: =B6-C6 -> 0.053604893 | E6: =ABS(D6) -> 0.053604893 | F6: =D6^2 -> 0.0028734845 | G6: =IF(B6=0,"",100*ABS(D6/B6)) -> 0.59560992
A7: 590 | B7: ='G3 Source'!B591 -> 10 | C7: 9.065187 | D7: =B7-C7 -> 0.93481304 | E7: =ABS(D7) -> 0.93481304 | F7: =D7^2 -> 0.87387542 | G7: =IF(B7=0,"",100*ABS(D7/B7)) -> 9.3481304
A8: 591 | B8: ='G3 Source'!B592 -> 7 | C8: 9.1764857 | D8: =B8-C8 -> -2.1764857 | E8: =ABS(D8) -> 2.1764857 | F8: =D8^2 -> 4.7370899 | G8: =IF(B8=0,"",100*ABS(D8/B8)) -> 31.092653
A9: 592 | B9: ='G3 Source'!B593 -> 14 | C9: 9.2779362 | D9: =B9-C9 -> 4.7220638 | E9: =ABS(D9) -> 4.7220638 | F9: =D9^2 -> 22.297886 | G9: =IF(B9=0,"",100*ABS(D9/B9)) -> 33.729027
A10: 593 | B10: ='G3 Source'!B594 -> 13 | C10: 9.3906233 | D10: =B10-C10 -> 3.6093767 | E10: =ABS(D10) -> 3.6093767 | F10: =D10^2 -> 13.0276 | G10: =IF(B10=0,"",100*ABS(D10/B10)) -> 27.764436
A11: 594 | B11: ='G3 Source'!B595 -> 14 | C11: 9.4851491 | D11: =B11-C11 -> 4.5148509 | E11: =ABS(D11) -> 4.5148509 | F11: =D11^2 -> 20.383879 | G11: =IF(B11=0,"",100*ABS(D11/B11)) -> 32.248935
A12: 595 | B12: ='G3 Source'!B596 -> 18 | C12: 9.5790694 | D12: =B12-C12 -> 8.4209306 | E12: =ABS(D12) -> 8.4209306 | F12: =D12^2 -> 70.912073 | G12: =IF(B12=0,"",100*ABS(D12/B12)) -> 46.782948
A13: 596 | B13: ='G3 Source'!B597 -> 17 | C13: 9.6548208 | D13: =B13-C13 -> 7.3451792 | E13: =ABS(D13) -> 7.3451792 | F13: =D13^2 -> 53.951658 | G13: =IF(B13=0,"",100*ABS(D13/B13)) -> 43.206937
... A66: 649 | B66: ='G3 Source'!B650 -> 11 | C66: 11.567381 | D66: =B66-C66 -> -0.56738081 | E66: =ABS(D66) -> 0.56738081 | F66: =D66^2 -> 0.32192099 | G66: =IF(B66=0,"",100*ABS(D66/B66)) -> 5.1580074

Sheet Metrics
A1: Metric | B1: Calculated value | C1: Source
A2: MAE | B2: =AVERAGE(Holdout!E2:E66) -> 3.9442587 | C2: Evaluated only on 65 holdout records
A3: RMSE | B3: =SQRT(AVERAGE(Holdout!F2:F66)) -> 5.1995909 | C3: Evaluated only on 65 holdout records
A4: MAPE | B4: =AVERAGE(Holdout!G2:G66) -> 20.896535 | C4: Evaluated only on 65 holdout records
A5: Nonzero count | B5: =COUNT(Holdout!G2:G66) -> 56 | C5: Evaluated only on 65 holdout records
A6: Holdout count | B6: =COUNT(Holdout!B2:B66) -> 65 | C6: Evaluated only on 65 holdout records
